BEGIN:VCALENDAR
VERSION:2.0
PRODID:-//Agenda do Vinho - ECPv4.9.0//NONSGML v1.0//EN
CALSCALE:GREGORIAN
METHOD:PUBLISH
X-WR-CALNAME:Agenda do Vinho
X-ORIGINAL-URL:https://agendadovinho.com.br
X-WR-CALDESC:Eventos para Agenda do Vinho
BEGIN:VEVENT
DTSTART;TZID=America/Sao_Paulo:20200814T180000
DTEND;TZID=America/Sao_Paulo:20200814T180000
DTSTAMP:20260422T204448
CREATED:20200813T135553Z
LAST-MODIFIED:20200813T135553Z
UID:15625-1597428000-1597428000@agendadovinho.com.br
SUMMARY:Degustando a vinícola - Herdade do Rocim Alentejo
DESCRIPTION:14/ago – 18:00 \n
URL:https://agendadovinho.com.br/event/degustando-a-vinicola-herdade-do-rocim-alentejo-2/
LOCATION:Youtube
CATEGORIES:Curso técnico,Online
ATTACH;FMTTYPE=image/jpeg:https://agendadovinho.com.br/wp-content/uploads/2020/08/vinhoemusicaclub_140820.jpg
END:VEVENT
END:VCALENDAR