BEGIN:VCALENDAR
VERSION:2.0
PRODID:-//Agenda do Vinho - ECPv4.9.0//NONSGML v1.0//EN
CALSCALE:GREGORIAN
METHOD:PUBLISH
X-WR-CALNAME:Agenda do Vinho
X-ORIGINAL-URL:https://agendadovinho.com.br
X-WR-CALDESC:Eventos para Agenda do Vinho
BEGIN:VEVENT
DTSTART;TZID=America/Sao_Paulo:20200807T193000
DTEND;TZID=America/Sao_Paulo:20200807T193000
DTSTAMP:20260425T214921
CREATED:20200807T144235Z
LAST-MODIFIED:20200807T144235Z
UID:15540-1596828600-1596828600@agendadovinho.com.br
SUMMARY:Degustando a vinícola - Família Bebber
DESCRIPTION:07/ago – 19:30 \n
URL:https://agendadovinho.com.br/event/degustando-a-vinicola-familia-bebber/
LOCATION:Youtube
CATEGORIES:Curso técnico,Online
ATTACH;FMTTYPE=image/jpeg:https://agendadovinho.com.br/wp-content/uploads/2020/08/vinhoemusicaclub_070820.jpg
END:VEVENT
END:VCALENDAR