BEGIN:VCALENDAR
VERSION:2.0
PRODID:-//Agenda do Vinho - ECPv4.9.0//NONSGML v1.0//EN
CALSCALE:GREGORIAN
METHOD:PUBLISH
X-WR-CALNAME:Agenda do Vinho
X-ORIGINAL-URL:https://agendadovinho.com.br
X-WR-CALDESC:Eventos para Agenda do Vinho
BEGIN:VEVENT
DTSTART;TZID=America/Sao_Paulo:20200501T193000
DTEND;TZID=America/Sao_Paulo:20200501T193000
DTSTAMP:20260426T022519
CREATED:20200429T145419Z
LAST-MODIFIED:20200429T145419Z
UID:12993-1588361400-1588361400@agendadovinho.com.br
SUMMARY:Degustação virtual
DESCRIPTION:Degustação virtual de espumantes: Itália x Espanha. \n01/05 às 19:30. \n
URL:https://agendadovinho.com.br/event/degustacao-virtual-3/
LOCATION:Vídeo conferência
CATEGORIES:Curso técnico,Online
ATTACH;FMTTYPE=image/jpeg:https://agendadovinho.com.br/wp-content/uploads/2020/04/moyawines_010520.jpg
END:VEVENT
END:VCALENDAR