BEGIN:VCALENDAR
VERSION:2.0
PRODID:-//Agenda do Vinho - ECPv4.9.0//NONSGML v1.0//EN
CALSCALE:GREGORIAN
METHOD:PUBLISH
X-WR-CALNAME:Agenda do Vinho
X-ORIGINAL-URL:https://agendadovinho.com.br
X-WR-CALDESC:Eventos para Agenda do Vinho
BEGIN:VEVENT
DTSTART;TZID=America/Sao_Paulo:20200430T200000
DTEND;TZID=America/Sao_Paulo:20200430T200000
DTSTAMP:20260426T022409
CREATED:20200425T151415Z
LAST-MODIFIED:20200425T151415Z
UID:12871-1588276800-1588276800@agendadovinho.com.br
SUMMARY:Degustação virtual
DESCRIPTION:III Degustação Virtual \n30/04 – 20:00 \n
URL:https://agendadovinho.com.br/event/degustacao-virtual-2/
LOCATION:Instagram
CATEGORIES:Curso técnico,Online
ATTACH;FMTTYPE=image/jpeg:https://agendadovinho.com.br/wp-content/uploads/2020/04/sobreovinho_300420.jpg
END:VEVENT
END:VCALENDAR