BEGIN:VCALENDAR
VERSION:2.0
PRODID:-//Agenda do Vinho - ECPv4.9.0//NONSGML v1.0//EN
CALSCALE:GREGORIAN
METHOD:PUBLISH
X-WR-CALNAME:Agenda do Vinho
X-ORIGINAL-URL:https://agendadovinho.com.br
X-WR-CALDESC:Eventos para Agenda do Vinho
BEGIN:VEVENT
DTSTART;TZID=America/Sao_Paulo:20201105T200000
DTEND;TZID=America/Sao_Paulo:20201105T200000
DTSTAMP:20260422T230350
CREATED:20201006T153149Z
LAST-MODIFIED:20201006T153149Z
UID:16127-1604606400-1604606400@agendadovinho.com.br
SUMMARY:Degustação - Vinhos de Jerez
DESCRIPTION:05/nov – 20:00 \n
URL:https://agendadovinho.com.br/event/degustacao-vinhos-de-jerez/
LOCATION:ABS Campinas\, R. Boaventura do Amaral\, 1274 - Centro\, Campinas\, SP\, Brasil
CATEGORIES:Degustação,SP - Demais cidades
ATTACH;FMTTYPE=image/jpeg:https://agendadovinho.com.br/wp-content/uploads/2020/10/abs_campinas_051120.jpg
END:VEVENT
END:VCALENDAR