BEGIN:VCALENDAR
VERSION:2.0
PRODID:-//Agenda do Vinho - ECPv4.9.0//NONSGML v1.0//EN
CALSCALE:GREGORIAN
METHOD:PUBLISH
X-WR-CALNAME:Agenda do Vinho
X-ORIGINAL-URL:https://agendadovinho.com.br
X-WR-CALDESC:Eventos para Agenda do Vinho
BEGIN:VEVENT
DTSTART;TZID=America/Sao_Paulo:20200310T193000
DTEND;TZID=America/Sao_Paulo:20200310T193000
DTSTAMP:20260423T235803
CREATED:20200131T190914Z
LAST-MODIFIED:20200131T190914Z
UID:10980-1583868600-1583868600@agendadovinho.com.br
SUMMARY:Degustação Viña Tinajas
DESCRIPTION:Primeira degustação do Ano WineSpot. Lançamento oficial dos vinhos Viejo Feo – Vinicola Tinajas – vale do Maule – Chile. Com a presença já confirmado do importador. \n
URL:https://agendadovinho.com.br/event/degustacao-vina-tinajas/
LOCATION:Baristro – Shopping Vila Velha\, Av. Luciano das Neves\, 2.418 - Divino Espírito Santo\, Vila Velha\, ES\, 29107-022\, Brasil
CATEGORIES:Degustação,ES - Demais cidades
ATTACH;FMTTYPE=image/jpeg:https://agendadovinho.com.br/wp-content/uploads/2020/01/degustacao_100320.jpg
END:VEVENT
END:VCALENDAR