BEGIN:VCALENDAR
VERSION:2.0
PRODID:-//Agenda do Vinho - ECPv4.9.0//NONSGML v1.0//EN
CALSCALE:GREGORIAN
METHOD:PUBLISH
X-WR-CALNAME:Agenda do Vinho
X-ORIGINAL-URL:https://agendadovinho.com.br
X-WR-CALDESC:Eventos para Agenda do Vinho
BEGIN:VEVENT
DTSTART;TZID=America/Sao_Paulo:20200424T190000
DTEND;TZID=America/Sao_Paulo:20200424T190000
DTSTAMP:20260426T035922
CREATED:20200423T150450Z
LAST-MODIFIED:20200423T150450Z
UID:12822-1587754800-1587754800@agendadovinho.com.br
SUMMARY:Degustação - Ventisquero
DESCRIPTION:LIVE na @adegadasonze em parceria com a vinícola @vventisquero. \n
URL:https://agendadovinho.com.br/event/degustacao-ventisquero/
LOCATION:Instagram
CATEGORIES:Curso técnico,Online
ATTACH;FMTTYPE=image/jpeg:https://agendadovinho.com.br/wp-content/uploads/2020/04/adegadasonze_240420.jpg
END:VEVENT
END:VCALENDAR