BEGIN:VCALENDAR
VERSION:2.0
PRODID:-//Agenda do Vinho - ECPv4.9.0//NONSGML v1.0//EN
CALSCALE:GREGORIAN
METHOD:PUBLISH
X-WR-CALNAME:Agenda do Vinho
X-ORIGINAL-URL:https://agendadovinho.com.br
X-WR-CALDESC:Eventos para Agenda do Vinho
BEGIN:VEVENT
DTSTART;TZID=America/Sao_Paulo:20200219T200000
DTEND;TZID=America/Sao_Paulo:20200219T200000
DTSTAMP:20260425T183321
CREATED:20200213T160040Z
LAST-MODIFIED:20200213T160040Z
UID:11376-1582142400-1582142400@agendadovinho.com.br
SUMMARY:Degustação orientada - Vinícola Pizzato
DESCRIPTION:A Vinícola Pizzato\, eleita a melhor do ano de 2019\, fica no Vale dos Vinhedos na Serra Gaúcha\, mais precisamente em Bento Gonçalves.⠀\n⠀\nSeus vinhos estão entre os mais destacados em degustações e painéis⠀\nde vinhos brasileiros e Internacionais.⠀\n⠀\nApresentação da enóloga e sommeliére Caroline Vizzotto⠀\n⠀\n🍷 Vinhos da Degustação:⠀\nEspumante Pizzato Vertigo⠀\nFausto Chardonnay ⠀\nPizzato Semillon (novidade) ⠀\nPizzato Reserva Merlot⠀\nPizzato Reserva Cabernet Sauvignon⠀\nPizzato Gran Reserva Concentus⠀\nValor R$ 105\,00 (por pessoa) até 15/02.⠀\nApós essa data\, R$ 115\,00 (por pessoa)⠀\nR$25\,00 revertidos em bônus para compra de vinhos do evento \n
URL:https://agendadovinho.com.br/event/degustacao-orientada-vinicola-pizzato/
LOCATION:Serrado Vinhos e Bistrô\, R. Gen. Glicério\, 364 - loja a - Laranjeiras\, Rio de Janeiro\, RJ\, 22240-005\, Brasil
CATEGORIES:Degustação,RJ - Rio de Janeiro
ATTACH;FMTTYPE=image/jpeg:https://agendadovinho.com.br/wp-content/uploads/2020/02/vinicola-pizzato_190220.jpg
END:VEVENT
END:VCALENDAR