BEGIN:VCALENDAR
VERSION:2.0
PRODID:-//Agenda do Vinho - ECPv4.9.0//NONSGML v1.0//EN
CALSCALE:GREGORIAN
METHOD:PUBLISH
X-WR-CALNAME:Agenda do Vinho
X-ORIGINAL-URL:https://agendadovinho.com.br
X-WR-CALDESC:Eventos para Agenda do Vinho
BEGIN:VEVENT
DTSTART;TZID=America/Sao_Paulo:20200313T200000
DTEND;TZID=America/Sao_Paulo:20200313T200000
DTSTAMP:20260425T213629
CREATED:20200304T193518Z
LAST-MODIFIED:20200304T193518Z
UID:11785-1584129600-1584129600@agendadovinho.com.br
SUMMARY:Degustação orientada vinícola Dr. Loosen
DESCRIPTION:Degustação Orientada de Vinhos Alemães: Vinícola Dr. Loosen \nSituada no rio Mosel\, na Alemanha\, entre algumas das vinhas mais\nvaliosas do mundo\, a propriedade do Dr. Loosen está na\nmesma família há mais de 200 anos. \nPara conseguir isso\, Ernst mudou imediatamente as práticas de vinha da propriedade para reduzir drasticamente o tamanho da colheita. Ele interrompeu toda a fertilização química\, preferindo apenas o uso moderado de fertilizantes orgânicos e alterações do solo. \nVinhos da Degustação: \nVilla Wolf Pinot Gris\nVilla Wolf Gewurztraminer\nDr Loosen Trocken Riesling\nVilla Wolf Pinot Noir Rosé\nVilla Wolf Pinot Noir \nValor:\nR$100\,00 (por pessoa) até 06/03. Após essa data\, R$115\,00\nR$20\,00 revertidos em bônus para compra de vinhos no evento \nNão perca essa oportunidade! \n
URL:https://agendadovinho.com.br/event/degustacao-orientada-vinicola-dr-loosen/
LOCATION:Serrado Vinhos\, Av. Maracanã\, 727\, loja 26 - Tijuca\, Rio de Janeiro\, RJ\, Brasil
CATEGORIES:Degustação,RJ - Rio de Janeiro
ATTACH;FMTTYPE=image/jpeg:https://agendadovinho.com.br/wp-content/uploads/2020/03/degustação-orientada_130320.jpg
END:VEVENT
END:VCALENDAR