BEGIN:VCALENDAR
VERSION:2.0
PRODID:-//Agenda do Vinho - ECPv4.9.0//NONSGML v1.0//EN
CALSCALE:GREGORIAN
METHOD:PUBLISH
X-WR-CALNAME:Agenda do Vinho
X-ORIGINAL-URL:https://agendadovinho.com.br
X-WR-CALDESC:Eventos para Agenda do Vinho
BEGIN:VEVENT
DTSTART;TZID=America/Sao_Paulo:20200626T193000
DTEND;TZID=America/Sao_Paulo:20200626T193000
DTSTAMP:20260423T075316
CREATED:20200609T162333Z
LAST-MODIFIED:20200609T162333Z
UID:14087-1593199800-1593199800@agendadovinho.com.br
SUMMARY:Degustação Online
DESCRIPTION:26/06 – 19:30 \n
URL:https://agendadovinho.com.br/event/degustacao-online/
LOCATION:Vídeo conferência
CATEGORIES:Degustação,Online
ATTACH;FMTTYPE=image/jpeg:https://agendadovinho.com.br/wp-content/uploads/2020/06/alvino_expert_260620.jpg
END:VEVENT
END:VCALENDAR