BEGIN:VCALENDAR
VERSION:2.0
PRODID:-//Agenda do Vinho - ECPv4.9.0//NONSGML v1.0//EN
CALSCALE:GREGORIAN
METHOD:PUBLISH
X-WR-CALNAME:Agenda do Vinho
X-ORIGINAL-URL:https://agendadovinho.com.br
X-WR-CALDESC:Eventos para Agenda do Vinho
BEGIN:VEVENT
DTSTART;TZID=America/Sao_Paulo:20200702T200000
DTEND;TZID=America/Sao_Paulo:20200702T200000
DTSTAMP:20260423T063000
CREATED:20200623T164516Z
LAST-MODIFIED:20200623T164516Z
UID:14478-1593720000-1593720000@agendadovinho.com.br
SUMMARY:Degustação online do vinho Gran Báculo 2012
DESCRIPTION:02/07 – 20h \n
URL:https://agendadovinho.com.br/event/degustacao-online-do-vinho-gran-baculo-2012/
LOCATION:Vídeo conferência
CATEGORIES:Degustação,Online
ATTACH;FMTTYPE=image/jpeg:https://agendadovinho.com.br/wp-content/uploads/2020/06/winemaniaoficial_020720.jpg
END:VEVENT
END:VCALENDAR