BEGIN:VCALENDAR
VERSION:2.0
PRODID:-//Agenda do Vinho - ECPv4.9.0//NONSGML v1.0//EN
CALSCALE:GREGORIAN
METHOD:PUBLISH
X-WR-CALNAME:Agenda do Vinho
X-ORIGINAL-URL:https://agendadovinho.com.br
X-WR-CALDESC:Eventos para Agenda do Vinho
BEGIN:VEVENT
DTSTART;TZID=America/Sao_Paulo:20240316T120000
DTEND;TZID=America/Sao_Paulo:20240316T150000
DTSTAMP:20260424T175338
CREATED:20240305T201909Z
LAST-MODIFIED:20240305T201909Z
UID:19520-1710590400-1710601200@agendadovinho.com.br
SUMMARY:Degustação Harmonizada de Vinhos Malteses
DESCRIPTION:
URL:https://agendadovinho.com.br/event/degustacao-harmonizada-de-vinhos-malteses/
LOCATION:Cinque Sensi\, Av. Europa\, 409 - Jardim\, São Paulo\, SP\, 01449-000\, Brasil
CATEGORIES:Degustação,SP - São Paulo
ATTACH;FMTTYPE=image/png:https://agendadovinho.com.br/wp-content/uploads/2024/03/degustacao-harmonizada_160324.png
END:VEVENT
END:VCALENDAR