BEGIN:VCALENDAR
VERSION:2.0
PRODID:-//Agenda do Vinho - ECPv4.9.0//NONSGML v1.0//EN
CALSCALE:GREGORIAN
METHOD:PUBLISH
X-WR-CALNAME:Agenda do Vinho
X-ORIGINAL-URL:https://agendadovinho.com.br
X-WR-CALDESC:Eventos para Agenda do Vinho
BEGIN:VEVENT
DTSTART;TZID=America/Sao_Paulo:20200419T130000
DTEND;TZID=America/Sao_Paulo:20200419T130000
DTSTAMP:20260426T024409
CREATED:20200416T175659Z
LAST-MODIFIED:20200416T175659Z
UID:12642-1587301200-1587301200@agendadovinho.com.br
SUMMARY:Degustação guiada + Clube de vinhos Chez France
DESCRIPTION:Vamos provar vinhos franceses juntos? Neste domingo\, 19/04\, Philippe Ormancey\, sócio-diretor da Chez France e Daniel Perches\, idealizador do @encontrodevinhos vão apresentar uma degustação guiada dos vinhos de Abril do Le Club! Aproveite para conhecer tudo sobre os vinhos\, sobre o clube exclusivo e tire todas as suas dúvidas com esses especialistas.\n⠀\nDomingo\, abra um vinho e participe da Live! \n
URL:https://agendadovinho.com.br/event/degustacao-guiada-clube-de-vinhos-chez-france/
LOCATION:Instagram
CATEGORIES:Curso técnico,Online
ATTACH;FMTTYPE=image/jpeg:https://agendadovinho.com.br/wp-content/uploads/2020/04/chezfrancebr_190420.jpg
END:VEVENT
END:VCALENDAR