BEGIN:VCALENDAR
VERSION:2.0
PRODID:-//Agenda do Vinho - ECPv4.9.0//NONSGML v1.0//EN
CALSCALE:GREGORIAN
METHOD:PUBLISH
X-WR-CALNAME:Agenda do Vinho
X-ORIGINAL-URL:https://agendadovinho.com.br
X-WR-CALDESC:Eventos para Agenda do Vinho
BEGIN:VEVENT
DTSTART;TZID=America/Sao_Paulo:20191121T200000
DTEND;TZID=America/Sao_Paulo:20191121T220000
DTSTAMP:20260426T013138
CREATED:20191101T225434Z
LAST-MODIFIED:20191101T225434Z
UID:9471-1574366400-1574373600@agendadovinho.com.br
SUMMARY:Degustação Guiada 3ª Edição - Vinhos para Primavera e Verão
DESCRIPTION:Esta será a última de 2019! Encerraremos a série com a temática “Primavera & Verão”\, pois vinho não vai bem só no inverno!\n⠀\nO sommelier Adriano Kich guiará a experiência com dicas e informações sobre os tipos tipos de uvas e harmonizações propícias para estas estações.\n⠀\nTeremos rótulos variados\, nacionais e importados. Para acompanhamento será servido tábuas de frios e outros aperitivos gourmet.\n⠀\nConfira abaixo como participar:\nSERVIÇO\nData: 21/11 (Quinta-feira)\nHorário: 20:00 (Duração de 2 horas aproximadamente)\nLocal: Casa Bortolotto. Rua Ruy Barbosa\, 240. Centro. Estância Velha.\nValor: R$ 75\,00.\n⠀\nPara oferecer um maior conforto e tornar a experiência mais agradável\, o número de participantes é bem limitado.\n⠀\nPara maiores informações:\n(51) 99392-9420\n(51) 3561-2159 \n
URL:https://agendadovinho.com.br/event/degustacao-guiada-3a-edicao-vinhos-para-primavera-e-verao/
LOCATION:Casa Bortolotto Vinhos & Cia\, Rua Ruy Barbosa\, 240\, Centro\, Estância Velha\, RS\, Brasil
CATEGORIES:Degustação,RS - Demais cidades
ATTACH;FMTTYPE=image/jpeg:https://agendadovinho.com.br/wp-content/uploads/2019/11/degustacao-guiada_211119.jpg
END:VEVENT
END:VCALENDAR