BEGIN:VCALENDAR
VERSION:2.0
PRODID:-//Agenda do Vinho - ECPv4.9.0//NONSGML v1.0//EN
CALSCALE:GREGORIAN
METHOD:PUBLISH
X-WR-CALNAME:Agenda do Vinho
X-ORIGINAL-URL:https://agendadovinho.com.br
X-WR-CALDESC:Eventos para Agenda do Vinho
BEGIN:VEVENT
DTSTART;TZID=America/Sao_Paulo:20201121T160000
DTEND;TZID=America/Sao_Paulo:20201121T190000
DTSTAMP:20260422T230519
CREATED:20201021T181523Z
LAST-MODIFIED:20201021T181523Z
UID:16283-1605974400-1605985200@agendadovinho.com.br
SUMMARY:DEGUSTAÇÃO GRANDES VINHOS DO BRASIL
DESCRIPTION:21/nov – 16:00 \nPorto Alegre – RS \n
URL:https://agendadovinho.com.br/event/degustacao-grandes-vinhos-do-brasil/
LOCATION:Rio de Vinho Boutique e Wine Bar\, Av. Edgar Píres de Castro\, 235 - Hipica\, Porto Alegre\, RS\, 91787-889\, Brasil
CATEGORIES:Degustação,RS - Porto Alegre
ATTACH;FMTTYPE=image/png:https://agendadovinho.com.br/wp-content/uploads/2020/10/degustacao-grandes-vinhos-do-brasil_211120.png
END:VEVENT
END:VCALENDAR