BEGIN:VCALENDAR
VERSION:2.0
PRODID:-//Agenda do Vinho - ECPv4.9.0//NONSGML v1.0//EN
CALSCALE:GREGORIAN
METHOD:PUBLISH
X-WR-CALNAME:Agenda do Vinho
X-ORIGINAL-URL:https://agendadovinho.com.br
X-WR-CALDESC:Eventos para Agenda do Vinho
BEGIN:VEVENT
DTSTART;TZID=America/Sao_Paulo:20200312T200000
DTEND;TZID=America/Sao_Paulo:20200312T200000
DTSTAMP:20260425T165458
CREATED:20200304T193421Z
LAST-MODIFIED:20200304T193421Z
UID:11784-1584043200-1584043200@agendadovinho.com.br
SUMMARY:Degustação especial Luiz Argenta
DESCRIPTION:Degustação especial Vinícola Luiz Argenta!\nSerão 8 super rótulos da Vinícola LA\, harmonizados com as entradinhas\, antepastos e prato quente. A degustação será guiada pelo nosso Sommelier Mateus Benatti\, passando um panorama geral da história da vinícola\, vinificação\, características das uvas e vinhos. Como sempre\, nossos eventos são regados a muito vinho\, conteúdo\, troca de experiências e descontração. Venha participar com a gente. Vagas super limitadas! \n
URL:https://agendadovinho.com.br/event/degustacao-especial-luiz-argenta/
LOCATION:Encontre Vinhos\, R. Purpurina\, 254 - Sumarezinho\, São Paulo\, SP\, 05435-030\, Brasil
CATEGORIES:Degustação,SP - São Paulo
ATTACH;FMTTYPE=image/jpeg:https://agendadovinho.com.br/wp-content/uploads/2020/03/degustação-especial_120320.jpg
END:VEVENT
END:VCALENDAR