BEGIN:VCALENDAR
VERSION:2.0
PRODID:-//Agenda do Vinho - ECPv4.9.0//NONSGML v1.0//EN
CALSCALE:GREGORIAN
METHOD:PUBLISH
X-WR-CALNAME:Agenda do Vinho
X-ORIGINAL-URL:https://agendadovinho.com.br
X-WR-CALDESC:Eventos para Agenda do Vinho
BEGIN:VEVENT
DTSTART;TZID=America/Sao_Paulo:20240309T140000
DTEND;TZID=America/Sao_Paulo:20240309T210000
DTSTAMP:20260420T132250
CREATED:20240223T151944Z
LAST-MODIFIED:20240223T151944Z
UID:19349-1709992800-1710018000@agendadovinho.com.br
SUMMARY:Degustação especial - Dia internacional da mulher
DESCRIPTION:
URL:https://agendadovinho.com.br/event/degustacao-especial-dia-internacional-da-mulher/
LOCATION:Casa Vitis\, R. Min. Roberto Cardoso Alves\, 359 - Alto da Boa Vista\, São Paulo\, SP\, 04737-000\, Brasil
CATEGORIES:Degustação,SP - São Paulo
ATTACH;FMTTYPE=image/jpeg:https://agendadovinho.com.br/wp-content/uploads/2024/02/degustação-especial_090324.jpg
END:VEVENT
END:VCALENDAR