BEGIN:VCALENDAR
VERSION:2.0
PRODID:-//Agenda do Vinho - ECPv4.9.0//NONSGML v1.0//EN
CALSCALE:GREGORIAN
METHOD:PUBLISH
X-WR-CALNAME:Agenda do Vinho
X-ORIGINAL-URL:https://agendadovinho.com.br
X-WR-CALDESC:Eventos para Agenda do Vinho
BEGIN:VEVENT
DTSTART;TZID=America/Sao_Paulo:20240307T200000
DTEND;TZID=America/Sao_Paulo:20240307T200000
DTSTAMP:20260420T132216
CREATED:20240227T153135Z
LAST-MODIFIED:20240227T153135Z
UID:19413-1709841600-1709841600@agendadovinho.com.br
SUMMARY:Degustação Especial Dia das Mulheres
DESCRIPTION:
URL:https://agendadovinho.com.br/event/degustacao-especial-dia-das-mulheres/
LOCATION:Hotel Cassino Tower\, R. Boaventura do Amaral\, 1274 - Centro\, Campinas\, SP\, 13015-192\, Brasil
CATEGORIES:Degustação,SP - Demais cidades
ATTACH;FMTTYPE=image/jpeg:https://agendadovinho.com.br/wp-content/uploads/2024/02/degustação-especial_070324.jpg
END:VEVENT
END:VCALENDAR