BEGIN:VCALENDAR
VERSION:2.0
PRODID:-//Agenda do Vinho - ECPv4.9.0//NONSGML v1.0//EN
CALSCALE:GREGORIAN
METHOD:PUBLISH
X-WR-CALNAME:Agenda do Vinho
X-ORIGINAL-URL:https://agendadovinho.com.br
X-WR-CALDESC:Eventos para Agenda do Vinho
BEGIN:VEVENT
DTSTART;TZID=America/Sao_Paulo:20190502T170000
DTEND;TZID=America/Sao_Paulo:20190502T170000
DTSTAMP:20260419T181413
CREATED:20190430T215022Z
LAST-MODIFIED:20190430T215022Z
UID:2946-1556816400-1556816400@agendadovinho.com.br
SUMMARY:Degustação especial de Vinhos Neozelandeses
DESCRIPTION:No próximo dia 2\, quinta-feira\, às 17 horas\, teremos degustação especial de vinhos da Nova Zelândia\, como parte das comemorações do Sauvignon Blanc Day\, que acontece dia 3. A atividade é aberta a sócios e sommeliers já formados ou que atualmente frequentem os cursos da ABS-SP. \n  \n
URL:https://agendadovinho.com.br/event/degustacao-especial-de-vinhos-neozelandeses/
LOCATION:ABS São Paulo\, 2 Edifício Olímpia Park\, R. Gomes de Carvalho\, 1327/1329 - Vila Olímpia\, São Paulo\, SP\, 04547-005\, Brasil
CATEGORIES:Degustação limitada,SP - São Paulo
ATTACH;FMTTYPE=image/jpeg:https://agendadovinho.com.br/wp-content/uploads/2019/04/vinhos-neozelandezes_020519.jpg
END:VEVENT
END:VCALENDAR