BEGIN:VCALENDAR
VERSION:2.0
PRODID:-//Agenda do Vinho - ECPv4.9.0//NONSGML v1.0//EN
CALSCALE:GREGORIAN
METHOD:PUBLISH
X-WR-CALNAME:Agenda do Vinho
X-ORIGINAL-URL:https://agendadovinho.com.br
X-WR-CALDESC:Eventos para Agenda do Vinho
BEGIN:VEVENT
DTSTART;TZID=America/Sao_Paulo:20190507T200000
DTEND;TZID=America/Sao_Paulo:20190507T200000
DTSTAMP:20260419T165228
CREATED:20190427T130422Z
LAST-MODIFIED:20190427T130422Z
UID:2695-1557259200-1557259200@agendadovinho.com.br
SUMMARY:Degustação de Vinhos
DESCRIPTION:Degustação de vinhos\nVinícola Viapiana e Queijos Carranca \n  \nNo dia 7 de Maio\, teremos uma noite especial de Degustação aqui na Viva Vino! \nContaremos com a presença do sommelier e diretor da vinícola Viapiana\, Cesar Curra e o produtor dos Queijos Carranca\, Antonio Augusto C Coa\, que nos explicarão sobre os vinhos da Vinícola e a Produção dos queijos Carranca\, que são tipicamente mineiros\, da cidade de Abadia dos Dourados. \nO investimento é de R$50 reais\, sendo R$30 deles revertido para consumo em produtos no dia do evento. . \nPara reservar seu lugar\, ligue no telefone 34 3306- 7261. \n
URL:https://agendadovinho.com.br/event/degustacao-de-vinhos/
LOCATION:Viva Vino Uberlândia\, Av. Francisco Galassi\, 990 - Loja 3 B - Morada da Colina\, Uberlândia - MG\, 38411-149\, Uberlândia\, MG\, 38411-149\, Brasil
CATEGORIES:Degustação livre,MG - Demais cidades
ATTACH;FMTTYPE=image/jpeg:https://agendadovinho.com.br/wp-content/uploads/2019/04/degustacao-de-vinhos_070519.jpg
END:VEVENT
END:VCALENDAR