BEGIN:VCALENDAR
VERSION:2.0
PRODID:-//Agenda do Vinho - ECPv4.9.0//NONSGML v1.0//EN
CALSCALE:GREGORIAN
METHOD:PUBLISH
X-WR-CALNAME:Agenda do Vinho
X-ORIGINAL-URL:https://agendadovinho.com.br
X-WR-CALDESC:Eventos para Agenda do Vinho
BEGIN:VEVENT
DTSTART;TZID=America/Sao_Paulo:20240430T190000
DTEND;TZID=America/Sao_Paulo:20240430T230000
DTSTAMP:20260420T090944
CREATED:20240415T153017Z
LAST-MODIFIED:20240415T153017Z
UID:19900-1714503600-1714518000@agendadovinho.com.br
SUMMARY:Degustação de Vinhos | Vila Madalena - Dia 30/04/2024
DESCRIPTION:
URL:https://agendadovinho.com.br/event/degustacao-de-vinhos-vila-madalena-dia-30-04-2024/
LOCATION:Les Vignobles de Demain\, Rua Harmonia\, 506 - Vila Madalena\, São Paulo\, SP\, 05435-000\, Brasil
CATEGORIES:Degustação,SP - São Paulo
ATTACH;FMTTYPE=image/jpeg:https://agendadovinho.com.br/wp-content/uploads/2024/04/degustacao-de-vinhos_300424.jpg
END:VEVENT
END:VCALENDAR