BEGIN:VCALENDAR
VERSION:2.0
PRODID:-//Agenda do Vinho - ECPv4.9.0//NONSGML v1.0//EN
CALSCALE:GREGORIAN
METHOD:PUBLISH
X-WR-CALNAME:Agenda do Vinho
X-ORIGINAL-URL:https://agendadovinho.com.br
X-WR-CALDESC:Eventos para Agenda do Vinho
BEGIN:VEVENT
DTSTART;TZID=America/Sao_Paulo:20191123T103000
DTEND;TZID=America/Sao_Paulo:20191123T153000
DTSTAMP:20260426T012312
CREATED:20191119T162042Z
LAST-MODIFIED:20191122T125828Z
UID:9767-1574505000-1574523000@agendadovinho.com.br
SUMMARY:Degustação de vinhos\, produtos importados e dicas
DESCRIPTION:O Empório Húngaro convida você para mais uma degustação de vinhos especial!!! \nO empório conta com uma das maiores variedades de vinhos Húngaros da América Latina! Aproveite para conhecer a loja\, os produtos e a adega! \nAlimentos finos e importados. \nNesta degustação você poderá degustar dos seguintes rótulos… \n–  Vinho branco Tokaji Aranyfürt Cuvée – Semi-doce (Moscatel e Furmint) \n–  Vinho Branco Teleki Villányi Olaszrizling – Seco (Olaszrizling) \n– Vinho Tinto Teleki Villányi Pinot Noir – Seco (Pinot Noir) \n– Vinho Tinto Vesztergombi Cabernet Sauvignon – seco (Cabernet Sauvignon) \n*AS CONFIRMAÇÕES DE PRESENÇA SÃO INDIVIDUAIS (APLICA-SE TAMBÉM PARA CONVIDADOS!).\n*OS RÓTULOS ESTÃO SUJEITOS A ALTERAÇÕES CONFORME DISPONIBILIDADE.\n*INGRESSOS E ENTRADA LIMITADAS. \nINSTAGRAM: @emporio_hungaro \n
URL:https://agendadovinho.com.br/event/degustacao-de-vinhos-produtos-importados-e-dicas/
LOCATION:Empório Húngaro\, Rua Alexandre Dumas\, 1001\, Santo Amaro\, São Paulo\, SP\, Brasil
CATEGORIES:Degustação,SP - São Paulo
ATTACH;FMTTYPE=image/png:https://agendadovinho.com.br/wp-content/uploads/2019/11/degustacao_231119.png
END:VEVENT
END:VCALENDAR