BEGIN:VCALENDAR
VERSION:2.0
PRODID:-//Agenda do Vinho - ECPv4.9.0//NONSGML v1.0//EN
CALSCALE:GREGORIAN
METHOD:PUBLISH
X-WR-CALNAME:Agenda do Vinho
X-ORIGINAL-URL:https://agendadovinho.com.br
X-WR-CALDESC:Eventos para Agenda do Vinho
BEGIN:VEVENT
DTSTART;TZID=America/Sao_Paulo:20240613T190000
DTEND;TZID=America/Sao_Paulo:20240613T210000
DTSTAMP:20260420T074213
CREATED:20240604T152326Z
LAST-MODIFIED:20240604T152326Z
UID:20211-1718305200-1718312400@agendadovinho.com.br
SUMMARY:Degustação de Vinhos Portugueses
DESCRIPTION:
URL:https://agendadovinho.com.br/event/degustacao-de-vinhos-portugueses-3/
LOCATION:Farinha Pura\, Rua Voluntários da Pátria\, 446\, loja 1 – Botafogo\, Rio de Janeiro\, RJ\, Brasil
CATEGORIES:Degustação,RJ - Rio de Janeiro
ATTACH;FMTTYPE=image/jpeg:https://agendadovinho.com.br/wp-content/uploads/2024/06/degustacao-de-vinhos-portugueses_130624.jpg
END:VEVENT
END:VCALENDAR