BEGIN:VCALENDAR
VERSION:2.0
PRODID:-//Agenda do Vinho - ECPv4.9.0//NONSGML v1.0//EN
CALSCALE:GREGORIAN
METHOD:PUBLISH
X-WR-CALNAME:Agenda do Vinho
X-ORIGINAL-URL:https://agendadovinho.com.br
X-WR-CALDESC:Eventos para Agenda do Vinho
BEGIN:VEVENT
DTSTART;TZID=UTC-3:20190420T200000
DTEND;TZID=UTC-3:20190420T230000
DTSTAMP:20260419T191954
CREATED:20190420T234149Z
LAST-MODIFIED:20190422T031641Z
UID:2270-1555790400-1555801200@agendadovinho.com.br
SUMMARY:Degustação de Vinhos Malbec
DESCRIPTION:Não é uma simples degustação\, é uma experiencia única. \nnão perca a oportunidade. \nVenha degustar 7 rótulos de Malbec inclusive um Malbec vinificado em Branco: \nSegue a lista dos rótulos de vinhos da degustação: \n1-Vicentin Blanc de Malbec \, Vale Del Uco\, Mendonza\, Argentina\, Premiado 92 pontos Tim Atkins. \n2- Prisioneiro Malbec \, San Rafael\, Argentina \n3-Vincetin Blend de Malbecs varias regiões de Mendonza\, Argentina premiado com 93pts Tim Alkins e 92 pts James Suckling \n4-Vincetin Dorado Malbec \, Sao Rafael\, Argentina \n5- Vicentin Arrogante varias regiões de Mendonza\, Argentina \n6-Vicentin Coloso\, Lujan de Cuyo\, Argentin. Premiado 94pts Tim Atkins e 92 pts James Suckling. \n7-SottanoReserva Malbec \, regiões Lujan de Cuyo e Gualtallary\, Argentina \nAcompanhados de mini raclettes ( prato tipico suíço) \nInvestimento: \nIndividual 50 reais. \nCasal 70 reais \n
URL:https://agendadovinho.com.br/event/degustacao-de-vinhos-malbec/
LOCATION:Cave Suíça\, Rua João Ramalho\, 1392\, São Paulo\, SP\, Brasil
CATEGORIES:Degustação limitada,SP - São Paulo
ATTACH;FMTTYPE=image/jpeg:https://agendadovinho.com.br/wp-content/uploads/2019/04/cave-suica_200419-e1556067441446.jpg
END:VEVENT
END:VCALENDAR