BEGIN:VCALENDAR
VERSION:2.0
PRODID:-//Agenda do Vinho - ECPv4.9.0//NONSGML v1.0//EN
CALSCALE:GREGORIAN
METHOD:PUBLISH
X-WR-CALNAME:Agenda do Vinho
X-ORIGINAL-URL:https://agendadovinho.com.br
X-WR-CALDESC:Eventos para Agenda do Vinho
BEGIN:VEVENT
DTSTART;TZID=America/Sao_Paulo:20240309T180000
DTEND;TZID=America/Sao_Paulo:20240309T220000
DTSTAMP:20260420T135241
CREATED:20240215T180623Z
LAST-MODIFIED:20240215T180623Z
UID:19231-1710007200-1710021600@agendadovinho.com.br
SUMMARY:Degustação de Vinhos Exóticos: Uma Jornada pelos Sabores Únicos
DESCRIPTION:
URL:https://agendadovinho.com.br/event/degustacao-de-vinhos-exoticos-uma-jornada-pelos-sabores-unicos/
LOCATION:Wine Mix Rio\, Av. Salvador Allende\, 6700 - loja 108 - Barra da Tijuca\, Rio de Janeiro\, RJ\, 22790-714
CATEGORIES:Degustação,RJ - Rio de Janeiro
ATTACH;FMTTYPE=image/png:https://agendadovinho.com.br/wp-content/uploads/2024/02/degustação-de-vinhos-exóticos_090324.png
END:VEVENT
END:VCALENDAR