BEGIN:VCALENDAR
VERSION:2.0
PRODID:-//Agenda do Vinho - ECPv4.9.0//NONSGML v1.0//EN
CALSCALE:GREGORIAN
METHOD:PUBLISH
X-WR-CALNAME:Agenda do Vinho
X-ORIGINAL-URL:https://agendadovinho.com.br
X-WR-CALDESC:Eventos para Agenda do Vinho
BEGIN:VEVENT
DTSTART;TZID=America/Sao_Paulo:20200212T200000
DTEND;TZID=America/Sao_Paulo:20200212T220000
DTSTAMP:20260426T005259
CREATED:20200124T150534Z
LAST-MODIFIED:20200124T150534Z
UID:10803-1581537600-1581544800@agendadovinho.com.br
SUMMARY:Degustação de Vinhos com Menu Tailandês - Koh Pee Pee
DESCRIPTION:Inusitados – Uvas exóticas – 5a Edição \nThai&Wine \nSabe aquelas combinações que são absurdamente opostas mas tem tudo para dar certo? Esta é a nossa proposta para este encontro divertido\, cultural e gastronômico no Koh Pee Pee! Fizemos uma seleção de seis pratos e seis vinhos para testar os sentidos. Texturas\, pimenta\, doce\, salgado\, carnes\, vegetais\, fritos\, assados\, cozidos… tintos\, brancos\, rosés muito diferentes. Vai perder? \nAs mesas são de seis a oito pessoas\, tudo para compartilhar. Não fique de fora! Confira abaixo o menu\, você prova todos os pratos\, com os vinhos citados: \n*Espumante Villa Matarazzo Rosé\, Brasil \n*Puklavek & Friends Furmint\, Eslovênia – uva FURMINT \n*Petronius BARBERA \n*Campos de Cima\, uva VIOGNER \n*Fina La Anita Luna – uva SYRAH \n*Viejo Feo CARMÉNÈRE\, Maule\, Chile \nMENU DE PRATOS: \nEntradas\n*Krathong Thong . Cestinhas crocantes recheadas com frango e especiarias \n*Rolinhos Primavera \nPratos Principais\n*Pad Prik Neua – Filet com Alho\, cebola\, pimenta\, folhas de limão\, coentro e arroz thai jasmin \n*Nuea Sawan – Filet de Porco ao molho de pasta de pimenta\, vagem fina\, cebola e arroz thai jasmim \n*Khao Pad Goong – Arroz Frito com Legumes e Camarão \n*Pad Thai Gai / Moo – Massa de arroz thai style com frango\, tofu\, amendoim e broto de feijão \nSobremesa – escolha uma das opções:\nKhao Neaw na Maprow\nArroz moti ao leite de coco natural\, coberto com coco queimado em açúcar de palmeira \nSangkaya\nCrême Brulée de coco tailandês\, decorado com coco fresco e flor comestível \nSorvete com calda de frutas​ \n12 de fevereiro\, 20h \nLocal: Koh Pee Pee\, Porto Alegre \nValor: R$ 250\,00 \nIncluso todo o menu citado\, água\, vinhos. \nDúvidas: 051 99331 6098 / 3023 3345 \n
URL:https://agendadovinho.com.br/event/degustacao-de-vinhos-com-menu-tailandes-koh-pee-pee-3/
LOCATION:Koh Pee Pee\, Rua Schiller\, 83\, Rio Branco\, Porto Alegre\, RS\, Brasil
CATEGORIES:Jantar harmonizado,RS - Porto Alegre
ATTACH;FMTTYPE=image/jpeg:https://agendadovinho.com.br/wp-content/uploads/2020/01/menu-tailandes_120220.jpg
END:VEVENT
END:VCALENDAR