BEGIN:VCALENDAR
VERSION:2.0
PRODID:-//Agenda do Vinho - ECPv4.9.0//NONSGML v1.0//EN
CALSCALE:GREGORIAN
METHOD:PUBLISH
X-WR-CALNAME:Agenda do Vinho
X-ORIGINAL-URL:https://agendadovinho.com.br
X-WR-CALDESC:Eventos para Agenda do Vinho
BEGIN:VEVENT
DTSTART;TZID=America/Sao_Paulo:20200306T200000
DTEND;TZID=America/Sao_Paulo:20200306T200000
DTSTAMP:20260425T165434
CREATED:20200302T160849Z
LAST-MODIFIED:20200302T160849Z
UID:11627-1583524800-1583524800@agendadovinho.com.br
SUMMARY:Degustação de vinhos brancos
DESCRIPTION:Frescos\, frutados\, aromáticos\, florais\, leves\, minerais\, herbáceos\, cítricos\, encorpados… \nVamos conhecer e apreciar excelentes vinhos brancos do Novo e Velho Mundo. \nDegustação orientada pela Sommelier Katlen Ignatowska de 6 vinhos brancos com descrições das regiões\, uvas degustadas e estilo de cada vinho. \n
URL:https://agendadovinho.com.br/event/degustacao-de-vinhos-brancos/
LOCATION:Massimo Gastrobar\, Av. Des. Dermeval Lyrio\, 121 - Mata da Praia\, Vitória\, ES\, 29065-340\, Brasil
CATEGORIES:Degustação,ES - Vitória
ATTACH;FMTTYPE=image/png:https://agendadovinho.com.br/wp-content/uploads/2020/03/20200210_122459_0000.png
END:VEVENT
END:VCALENDAR