BEGIN:VCALENDAR
VERSION:2.0
PRODID:-//Agenda do Vinho - ECPv4.9.0//NONSGML v1.0//EN
CALSCALE:GREGORIAN
METHOD:PUBLISH
X-WR-CALNAME:Agenda do Vinho
X-ORIGINAL-URL:https://agendadovinho.com.br
X-WR-CALDESC:Eventos para Agenda do Vinho
BEGIN:VEVENT
DTSTART;TZID=America/Sao_Paulo:20200317T194500
DTEND;TZID=America/Sao_Paulo:20200317T220000
DTSTAMP:20260425T165420
CREATED:20200309T150629Z
LAST-MODIFIED:20200309T150629Z
UID:11940-1584474300-1584482400@agendadovinho.com.br
SUMMARY:Degustação de Vinhos
DESCRIPTION:A Temps Du Vin\, em parceria com Família Kogan e a sommelier Márcia Alpães – formada pela Associação Italiana de Sommelier – Roma lhe convida para participar de uma viagem sensorial e etílica pelas diversas regiões produtoras de vinhos italianas em duelo com Orgânicos Argentinos. Em um ambiente elegante e aconchegante\, venha degustar vinhos de qualidade feito por pequenos produtores exclusivos.\nDegustação às cegas\, com prova de 4 rótulos.\nImperdivel!!!\nAcompanhamento: Queijos\, embutidos e pães.\n(11) 3062-3979 / 99272-0250\n
URL:https://agendadovinho.com.br/event/degustacao-de-vinhos-15/
LOCATION:Temps Du Vin Brasil\, R. Estados Unidos\, 2233 - Jardim America\, São Paulo\, SP\, 01427-002\, Brasil
CATEGORIES:Degustação,SP - São Paulo
ATTACH;FMTTYPE=image/jpeg:https://agendadovinho.com.br/wp-content/uploads/2020/03/degustação-de-vinhos_170320.jpg
END:VEVENT
END:VCALENDAR