BEGIN:VCALENDAR
VERSION:2.0
PRODID:-//Agenda do Vinho - ECPv4.9.0//NONSGML v1.0//EN
CALSCALE:GREGORIAN
METHOD:PUBLISH
X-WR-CALNAME:Agenda do Vinho
X-ORIGINAL-URL:https://agendadovinho.com.br
X-WR-CALDESC:Eventos para Agenda do Vinho
BEGIN:VEVENT
DTSTART;TZID=America/Sao_Paulo:20200319T190000
DTEND;TZID=America/Sao_Paulo:20200319T190000
DTSTAMP:20260425T165459
CREATED:20200304T193210Z
LAST-MODIFIED:20200304T193210Z
UID:11783-1584644400-1584644400@agendadovinho.com.br
SUMMARY:Degustação de ícones chilenos J Bouchon
DESCRIPTION:Para maiores informações entre em contato pelo WhatsApp 📲 (21) 99500-5776. \n
URL:https://agendadovinho.com.br/event/degustacao-de-icones-chilenos-j-bouchon/
LOCATION:Empório Farinha Pura\, R. Voluntários da Pátria\, 446 - Botafogo\, Rio de Janeiro\, RJ\, 22270-010\, Brasil
CATEGORIES:Degustação,RJ - Rio de Janeiro
ATTACH;FMTTYPE=image/jpeg:https://agendadovinho.com.br/wp-content/uploads/2020/03/degustação_190320.jpg
END:VEVENT
END:VCALENDAR