BEGIN:VCALENDAR
VERSION:2.0
PRODID:-//Agenda do Vinho - ECPv4.9.0//NONSGML v1.0//EN
CALSCALE:GREGORIAN
METHOD:PUBLISH
X-WR-CALNAME:Agenda do Vinho
X-ORIGINAL-URL:https://agendadovinho.com.br
X-WR-CALDESC:Eventos para Agenda do Vinho
BEGIN:VEVENT
DTSTART;TZID=America/Sao_Paulo:20200625T180000
DTEND;TZID=America/Sao_Paulo:20200625T180000
DTSTAMP:20260423T062836
CREATED:20200623T164131Z
LAST-MODIFIED:20200623T164131Z
UID:14473-1593108000-1593108000@agendadovinho.com.br
SUMMARY:Degustação: Beronia Crianza
DESCRIPTION:25/06 – 18h \n
URL:https://agendadovinho.com.br/event/degustacao-beronia-crianza/
LOCATION:Instagram
CATEGORIES:Degustação,Online
ATTACH;FMTTYPE=image/jpeg:https://agendadovinho.com.br/wp-content/uploads/2020/06/viiwine_vinho_250620.jpg
END:VEVENT
END:VCALENDAR