BEGIN:VCALENDAR
VERSION:2.0
PRODID:-//Agenda do Vinho - ECPv4.9.0//NONSGML v1.0//EN
CALSCALE:GREGORIAN
METHOD:PUBLISH
X-WR-CALNAME:Agenda do Vinho
X-ORIGINAL-URL:https://agendadovinho.com.br
X-WR-CALDESC:Eventos para Agenda do Vinho
BEGIN:VEVENT
DTSTART;TZID=America/Sao_Paulo:20201123T193000
DTEND;TZID=America/Sao_Paulo:20201123T210000
DTSTAMP:20260422T231633
CREATED:20201106T154057Z
LAST-MODIFIED:20201106T154057Z
UID:16544-1606159800-1606165200@agendadovinho.com.br
SUMMARY:Degustação às cegas: uvas incomuns - uma experiência de aromas e sabores
DESCRIPTION:23/nov – 19:30 \n
URL:https://agendadovinho.com.br/event/degustacao-as-cegas-uvas-incomuns-uma-experiencia-de-aromas-e-sabores/
LOCATION:Vídeo conferência
CATEGORIES:Degustação,Online
ATTACH;FMTTYPE=image/png:https://agendadovinho.com.br/wp-content/uploads/2020/11/degustacao-as-cegas_231120.png
END:VEVENT
END:VCALENDAR