BEGIN:VCALENDAR
VERSION:2.0
PRODID:-//Agenda do Vinho - ECPv4.9.0//NONSGML v1.0//EN
CALSCALE:GREGORIAN
METHOD:PUBLISH
X-WR-CALNAME:Agenda do Vinho
X-ORIGINAL-URL:https://agendadovinho.com.br
X-WR-CALDESC:Eventos para Agenda do Vinho
BEGIN:VEVENT
DTSTART;TZID=America/Sao_Paulo:20191123T110000
DTEND;TZID=America/Sao_Paulo:20191123T140000
DTSTAMP:20260426T025349
CREATED:20191119T172539Z
LAST-MODIFIED:20191119T172539Z
UID:9791-1574506800-1574517600@agendadovinho.com.br
SUMMARY:Decanter Wine Tasting
DESCRIPTION:Tem Wine Tasting chegando para finalizar bem essa semana que está só começando! Chame os amigos! 🍷😁 Garanta sua vaga\, porque são poucas. Será no próximo sábado\, dia 23/11. Teremos nossa tradicional degustação de vinhos e um mini-churrasco. \nDúvidas? (61) 3349-1943 \n
URL:https://agendadovinho.com.br/event/decanter-wine-tasting/
LOCATION:Decanter Brasília\, Asa Sul CLS 103 loja 36 - Asa Sul\, Brasília\, DF\, 70342-520\, Brasil
CATEGORIES:Degustação,DF - Brasília
ATTACH;FMTTYPE=image/jpeg:https://agendadovinho.com.br/wp-content/uploads/2019/11/decanter_231119.jpg
END:VEVENT
END:VCALENDAR