BEGIN:VCALENDAR
VERSION:2.0
PRODID:-//Agenda do Vinho - ECPv4.9.0//NONSGML v1.0//EN
CALSCALE:GREGORIAN
METHOD:PUBLISH
X-WR-CALNAME:Agenda do Vinho
X-ORIGINAL-URL:https://agendadovinho.com.br
X-WR-CALDESC:Eventos para Agenda do Vinho
BEGIN:VEVENT
DTSTART;TZID=America/Sao_Paulo:20200307T110000
DTEND;TZID=America/Sao_Paulo:20200307T140000
DTSTAMP:20260425T165142
CREATED:20200303T174140Z
LAST-MODIFIED:20200303T174140Z
UID:11746-1583578800-1583589600@agendadovinho.com.br
SUMMARY:Decanter Wine Tasting
DESCRIPTION:Degustação de vinhos e frios. \nDúvidas? (61) 3349-1943 \n
URL:https://agendadovinho.com.br/event/decanter-wine-tasting-4/
LOCATION:Decanter Brasília\, Asa Sul CLS 103 loja 36 - Asa Sul\, Brasília\, DF\, 70342-520\, Brasil
CATEGORIES:Degustação,DF - Brasília
ATTACH;FMTTYPE=image/jpeg:https://agendadovinho.com.br/wp-content/uploads/2020/03/decanter-wine-tasting_070320.jpg
END:VEVENT
END:VCALENDAR