BEGIN:VCALENDAR
VERSION:2.0
PRODID:-//Agenda do Vinho - ECPv4.9.0//NONSGML v1.0//EN
CALSCALE:GREGORIAN
METHOD:PUBLISH
X-WR-CALNAME:Agenda do Vinho
X-ORIGINAL-URL:https://agendadovinho.com.br
X-WR-CALDESC:Eventos para Agenda do Vinho
BEGIN:VEVENT
DTSTART;TZID=America/Sao_Paulo:20191122T190000
DTEND;TZID=America/Sao_Paulo:20191122T220000
DTSTAMP:20260426T011858
CREATED:20191103T194548Z
LAST-MODIFIED:20191103T194548Z
UID:9489-1574449200-1574460000@agendadovinho.com.br
SUMMARY:Decanter Wine Day Campinas - 2ª Edição 2019
DESCRIPTION:Participe do maior evento de vinhos de Campinas e venha degustar 100 vinhos especialmente selecionados do portfólio da importadora Decanter: rótulos premiados\, de produtores renomados\, além de grande variedade de vinhos orgânicos\, biodinâmicos e naturais. Também haverá sorteio de jantares nos melhores restaurantes da cidade\, oficina de harmonização e flash poesia com @manas.escritas. Você também ganhará um voucher no valor de R$70 para reverter em compras de vinho. Uma grande festa para comemorar os 15 anos da Decanter em Campinas! \nOs sommeliers da Decanter farão a apresentação dos 100 vinhos: \n\nFerrari – eleito o Melhor Produtor de Espumante e Champagne de 2019\nVinícola Felline-Racemi – Puglia\nVinhos da França\nVinhos da Itália\nVinhos da Espanha\nVinhos de Portugal\nVinhos da Argentina\nVinhos do Chile\nVinhos do Mundo (Alemanha\, Uruguai\, Austrália\, Nova Zelândia\, entre outros)\nOficina de Harmonização\n\n\nLevante a taça\, brinde ao que se passa! \n
URL:https://agendadovinho.com.br/event/decanter-wine-day-campinas-2a-edicao-2019/
LOCATION:Villa Delikatessen\, Avenida Doutor Jesuíno Marcondes Machado\, 807\, Chácara da Barra\, Campinas\, SP\, Brasil
CATEGORIES:Degustação,SP - Demais cidades
ATTACH;FMTTYPE=image/jpeg:https://agendadovinho.com.br/wp-content/uploads/2019/11/decanter-wine-day_221119.jpg
END:VEVENT
END:VCALENDAR