BEGIN:VCALENDAR
VERSION:2.0
PRODID:-//Agenda do Vinho - ECPv4.9.0//NONSGML v1.0//EN
CALSCALE:GREGORIAN
METHOD:PUBLISH
X-WR-CALNAME:Agenda do Vinho
X-ORIGINAL-URL:https://agendadovinho.com.br
X-WR-CALDESC:Eventos para Agenda do Vinho
BEGIN:VEVENT
DTSTART;TZID=America/Sao_Paulo:20210120T193000
DTEND;TZID=America/Sao_Paulo:20210120T220000
DTSTAMP:20260423T063020
CREATED:20201222T151132Z
LAST-MODIFIED:20201222T151132Z
UID:17006-1611171000-1611180000@agendadovinho.com.br
SUMMARY:CURSO VINHOS DE PORTUGAL ONLINE
DESCRIPTION:20/jan – 19:30 \n
URL:https://agendadovinho.com.br/event/curso-vinhos-de-portugal-online/
LOCATION:Vídeo conferência
CATEGORIES:Curso técnico,Online
ATTACH;FMTTYPE=image/jpeg:https://agendadovinho.com.br/wp-content/uploads/2020/12/thewineschoolbrasil_200121.jpg
END:VEVENT
END:VCALENDAR