BEGIN:VCALENDAR
VERSION:2.0
PRODID:-//Agenda do Vinho - ECPv4.9.0//NONSGML v1.0//EN
CALSCALE:GREGORIAN
METHOD:PUBLISH
X-WR-CALNAME:Agenda do Vinho
X-ORIGINAL-URL:https://agendadovinho.com.br
X-WR-CALDESC:Eventos para Agenda do Vinho
BEGIN:VEVENT
DTSTART;TZID=America/Sao_Paulo:20200825T190000
DTEND;TZID=America/Sao_Paulo:20200825T190000
DTSTAMP:20260423T092823
CREATED:20200717T160205Z
LAST-MODIFIED:20200717T160205Z
UID:15113-1598382000-1598382000@agendadovinho.com.br
SUMMARY:Curso Online WSET Nível 1
DESCRIPTION:25/ago – 19:00 \n
URL:https://agendadovinho.com.br/event/curso-online-wset-nivel-1/
LOCATION:Vídeo conferência
CATEGORIES:Curso técnico,Online
ATTACH;FMTTYPE=image/jpeg:https://agendadovinho.com.br/wp-content/uploads/2020/07/thewineschoolbrasil_250820.jpg
END:VEVENT
END:VCALENDAR