BEGIN:VCALENDAR
VERSION:2.0
PRODID:-//Agenda do Vinho - ECPv4.9.0//NONSGML v1.0//EN
CALSCALE:GREGORIAN
METHOD:PUBLISH
X-WR-CALNAME:Agenda do Vinho
X-ORIGINAL-URL:https://agendadovinho.com.br
X-WR-CALDESC:Eventos para Agenda do Vinho
BEGIN:VEVENT
DTSTART;TZID=America/Sao_Paulo:20200312T193000
DTEND;TZID=America/Sao_Paulo:20200312T193000
DTSTAMP:20260425T132947
CREATED:20200305T110932Z
LAST-MODIFIED:20200305T110932Z
UID:11817-1584041400-1584041400@agendadovinho.com.br
SUMMARY:Curso Introdução ao Vinho
DESCRIPTION:Curso N Wines \nIntrodução ao Mundo do Vinho \n
URL:https://agendadovinho.com.br/event/curso-introducao-ao-vinho/
LOCATION:N Wines\, Av. Governador Tarcísio de Vasconcelos Maia\, 2179 - Candelária\, Natal\, RN\, 59066-035\, Brasil
CATEGORIES:Curso técnico,RN - Natal
ATTACH;FMTTYPE=image/jpeg:https://agendadovinho.com.br/wp-content/uploads/2020/03/BB7C7BC9-0761-418B-B42C-180025066742.jpeg
END:VEVENT
END:VCALENDAR