BEGIN:VCALENDAR
VERSION:2.0
PRODID:-//Agenda do Vinho - ECPv4.9.0//NONSGML v1.0//EN
CALSCALE:GREGORIAN
METHOD:PUBLISH
X-WR-CALNAME:Agenda do Vinho
X-ORIGINAL-URL:https://agendadovinho.com.br
X-WR-CALDESC:Eventos para Agenda do Vinho
BEGIN:VEVENT
DTSTART;TZID=America/Sao_Paulo:20200512T190000
DTEND;TZID=America/Sao_Paulo:20200512T190000
DTSTAMP:20260426T040341
CREATED:20200507T151732Z
LAST-MODIFIED:20200507T151732Z
UID:13299-1589310000-1589310000@agendadovinho.com.br
SUMMARY:Curso - Desvendando o vinho - EP5 - Como a uva vira vinho?
DESCRIPTION:12/05 – 19h \n
URL:https://agendadovinho.com.br/event/curso-desvendando-o-vinho-ep5-como-a-uva-vira-vinho/
LOCATION:Instagram
CATEGORIES:Curso técnico,Online
ATTACH;FMTTYPE=image/jpeg:https://agendadovinho.com.br/wp-content/uploads/2020/05/casavalduga_120520.jpg
END:VEVENT
END:VCALENDAR