BEGIN:VCALENDAR
VERSION:2.0
PRODID:-//Agenda do Vinho - ECPv4.9.0//NONSGML v1.0//EN
CALSCALE:GREGORIAN
METHOD:PUBLISH
X-WR-CALNAME:Agenda do Vinho
X-ORIGINAL-URL:https://agendadovinho.com.br
X-WR-CALDESC:Eventos para Agenda do Vinho
BEGIN:VEVENT
DTSTART;TZID=America/Sao_Paulo:20200507T190000
DTEND;TZID=America/Sao_Paulo:20200507T190000
DTSTAMP:20260426T024537
CREATED:20200507T144815Z
LAST-MODIFIED:20200507T144815Z
UID:13251-1588878000-1588878000@agendadovinho.com.br
SUMMARY:Curso - Desvendando o vinho - EP4 - As principais variedades de uvas viníferas
DESCRIPTION:07/05 – 19h \n
URL:https://agendadovinho.com.br/event/curso-desvendando-o-vinho-ep4-as-principais-variedades-de-uvas-viniferas/
LOCATION:Instagram
CATEGORIES:Curso técnico,Online
ATTACH;FMTTYPE=image/jpeg:https://agendadovinho.com.br/wp-content/uploads/2020/05/casavalduga_070520.jpg
END:VEVENT
END:VCALENDAR