BEGIN:VCALENDAR
VERSION:2.0
PRODID:-//Agenda do Vinho - ECPv4.9.0//NONSGML v1.0//EN
CALSCALE:GREGORIAN
METHOD:PUBLISH
X-WR-CALNAME:Agenda do Vinho
X-ORIGINAL-URL:https://agendadovinho.com.br
X-WR-CALDESC:Eventos para Agenda do Vinho
BEGIN:VEVENT
DTSTART;TZID=America/Sao_Paulo:20200128T200000
DTEND;TZID=America/Sao_Paulo:20200128T200000
DTSTAMP:20260425T213522
CREATED:20200121T144727Z
LAST-MODIFIED:20200121T144727Z
UID:10729-1580241600-1580241600@agendadovinho.com.br
SUMMARY:Curso de Vinhos para o Verão
DESCRIPTION:Verão\, sol\, calor\, praia\, piscina\, piquenique. É… os dias quentes de verão pedem bebidas que refresquem\, e eu estou falando de vinho mesmo! 🥂 Deixe de bobeira\, pois vinho não é só para os dias de frio. Nos dias quentes os espumantes\, vinhos brancos e rosès (e até mesmo os tintos de corpo leve e frutados) caem muito bem. Mas que tal aprofundarmos isso em uma Wine Class? Vem aí o curso “Vinhos para o verão”! \n🗒️Anote na agenda: Será no dia 28 de janeiro\, às 20h\, 📍no @tramontowinebar. Além da wine class\, teremos degustação de 5 rótulos de vinhos (entre espumante\, brancos e rosè) e um jantar em 3 etapas. Tudo isso por R$ 150\,00! \nBora mergulhar de cabeça nos Vinhos para o verão? Então inscreva-se logo\, porque as vagas são limitadas! \n
URL:https://agendadovinho.com.br/event/curso-de-vinhos-para-o-verao/
LOCATION:Tramonto Wine Bar\, R. Franca Filho\, nº 508 - Manaíra\, João Pessoa\, PB\, 58038-150\, Brasil
CATEGORIES:Curso técnico,PB - João Pessoa
ATTACH;FMTTYPE=image/jpeg:https://agendadovinho.com.br/wp-content/uploads/2020/01/curso-de-vinhos-para-o-versoa_280120.jpg
END:VEVENT
END:VCALENDAR