BEGIN:VCALENDAR
VERSION:2.0
PRODID:-//Agenda do Vinho - ECPv4.9.0//NONSGML v1.0//EN
CALSCALE:GREGORIAN
METHOD:PUBLISH
X-WR-CALNAME:Agenda do Vinho
X-ORIGINAL-URL:https://agendadovinho.com.br
X-WR-CALDESC:Eventos para Agenda do Vinho
BEGIN:VEVENT
DTSTART;TZID=America/Sao_Paulo:20200324T190000
DTEND;TZID=America/Sao_Paulo:20200324T223000
DTSTAMP:20260425T213343
CREATED:20200206T181205Z
LAST-MODIFIED:20200206T181205Z
UID:11182-1585076400-1585089000@agendadovinho.com.br
SUMMARY:Curso de Vinhos Franceses
DESCRIPTION:Curso de Vinhos Franceses\nData: 24\, 26\, 31 de março + 02 de abril\nHorário: das 19hs00 às 22hs30\nLocal: Casa dos Frios Graças\nValor: R$ 1.050\,00 (em 3x de R$350\,00) ou R$ 945\,00 à vista\nVinhos Degustados: 32 \nPara mais informações: Maurício Dias. @titodias26\nFone: (81) 99815-7777 \n
URL:https://agendadovinho.com.br/event/curso-de-vinhos-franceses/
LOCATION:Casa dos Frios\, Av. Rui Barbosa\, 412 - Graças\, Recife\, PE\, 52011-040\, Brasil
CATEGORIES:Curso técnico,PE - Recife
ATTACH;FMTTYPE=image/jpeg:https://agendadovinho.com.br/wp-content/uploads/2020/02/curso-de-vinhos-franceses_240320.jpg
END:VEVENT
END:VCALENDAR