BEGIN:VCALENDAR
VERSION:2.0
PRODID:-//Agenda do Vinho - ECPv4.9.0//NONSGML v1.0//EN
CALSCALE:GREGORIAN
METHOD:PUBLISH
X-WR-CALNAME:Agenda do Vinho
X-ORIGINAL-URL:https://agendadovinho.com.br
X-WR-CALDESC:Eventos para Agenda do Vinho
BEGIN:VEVENT
DTSTART;TZID=America/Sao_Paulo:20200312T190000
DTEND;TZID=America/Sao_Paulo:20200312T190000
DTSTAMP:20260421T193308
CREATED:20200228T184612Z
LAST-MODIFIED:20200228T184612Z
UID:11483-1584039600-1584039600@agendadovinho.com.br
SUMMARY:Curso de Vinhos
DESCRIPTION:Tenha grandes assuntos para conversar com seus amigos num gostoso jantar. Para isto basta fazer o curso de vinhos nos dias 12 e 19 de marco em São Bernardo do Campo. Faça sua inscrição\, vagas limitadas. \nWhatsapp 11 99687-9160 \n
URL:https://agendadovinho.com.br/event/curso-de-vinhos-14/
LOCATION:Pizzaria Spettacolare\, R. Carlos Del Prete\, 106 - Centro\, São Bernardo do Campo\, SP\, 09710-230\, Brasil
CATEGORIES:Curso técnico,SP - Demais cidades
ATTACH;FMTTYPE=image/jpeg:https://agendadovinho.com.br/wp-content/uploads/2020/02/curso-de-vinhos_120320.jpg
END:VEVENT
END:VCALENDAR