BEGIN:VCALENDAR
VERSION:2.0
PRODID:-//Agenda do Vinho - ECPv4.9.0//NONSGML v1.0//EN
CALSCALE:GREGORIAN
METHOD:PUBLISH
X-WR-CALNAME:Agenda do Vinho
X-ORIGINAL-URL:https://agendadovinho.com.br
X-WR-CALDESC:Eventos para Agenda do Vinho
BEGIN:VEVENT
DTSTART;TZID=America/Sao_Paulo:20200328T180000
DTEND;TZID=America/Sao_Paulo:20200328T203000
DTSTAMP:20260425T183808
CREATED:20200313T165421Z
LAST-MODIFIED:20200313T165421Z
UID:12158-1585418400-1585427400@agendadovinho.com.br
SUMMARY:Curso de Harmonização Páscoa & Vinho na Vinícola Góes
DESCRIPTION:Um encontro alegre e descontraído para conhecermos a atualidade da produção de vinhos no Brasil\, um pouco de sua história e regiões e algumas noções de harmonização para esta época especial: a Páscoa.\nAlimentos salgado\, vinho\, chocolate: como combiná-los à mesa e ampliar o prazer. \n
URL:https://agendadovinho.com.br/event/curso-de-harmonizacao-pascoa-vinho-na-vinicola-goes/
LOCATION:Vinícola Góes\, Estrada do Vinho\, Km 09\, s/n Canguera\, São Roque - SP\, 18145-002\, São Roque\, SP\, 18145-002
CATEGORIES:Curso técnico,SP - Demais cidades
ATTACH;FMTTYPE=image/jpeg:https://agendadovinho.com.br/wp-content/uploads/2020/03/pascoa-e-vinho_280320.jpg
END:VEVENT
END:VCALENDAR