BEGIN:VCALENDAR
VERSION:2.0
PRODID:-//Agenda do Vinho - ECPv4.9.0//NONSGML v1.0//EN
CALSCALE:GREGORIAN
METHOD:PUBLISH
X-WR-CALNAME:Agenda do Vinho
X-ORIGINAL-URL:https://agendadovinho.com.br
X-WR-CALDESC:Eventos para Agenda do Vinho
BEGIN:VEVENT
DTSTART;TZID=America/Sao_Paulo:20200825T193000
DTEND;TZID=America/Sao_Paulo:20200825T193000
DTSTAMP:20260423T062806
CREATED:20200820T163712Z
LAST-MODIFIED:20200820T163712Z
UID:15709-1598383800-1598383800@agendadovinho.com.br
SUMMARY:Curso básico online
DESCRIPTION:25/ago – 19:30 \n
URL:https://agendadovinho.com.br/event/curso-basico-online/
LOCATION:Vídeo conferência
CATEGORIES:Curso técnico,Online
ATTACH;FMTTYPE=image/png:https://agendadovinho.com.br/wp-content/uploads/2020/08/abs_campinas_250820.png
END:VEVENT
END:VCALENDAR