BEGIN:VCALENDAR
VERSION:2.0
PRODID:-//Agenda do Vinho - ECPv4.9.0//NONSGML v1.0//EN
CALSCALE:GREGORIAN
METHOD:PUBLISH
X-WR-CALNAME:Agenda do Vinho
X-ORIGINAL-URL:https://agendadovinho.com.br
X-WR-CALDESC:Eventos para Agenda do Vinho
BEGIN:VEVENT
DTSTART;TZID=America/Sao_Paulo:20190627T200000
DTEND;TZID=America/Sao_Paulo:20190627T220000
DTSTAMP:20260419T181121
CREATED:20190528T141315Z
LAST-MODIFIED:20190528T141315Z
UID:4181-1561665600-1561672800@agendadovinho.com.br
SUMMARY:Curso Básico de Vinhos - Vila Leopoldina
DESCRIPTION:Venha aprender mais sobre o mundo dos vinhos. Curso com 2h de duração e degustação de 4 vinhos. \nAprenda sobre: \n\nTipos de vinho\nPrincipais Uvas e sua características\nComo é feito o vinho?\nPrincipais Regiões Produtoras – Velho Mundo\nPrincipais Regiões Produtoras – Novo Mundo\nDegustação\nHarmonização\n\nHorário do curso é das 20h as 22h. 2h de duração. \nBrinde de Boas Vindas a partir das 19h30! Venha aprender mais sobre essa bebida!! \nDúvidas? Entre em contato pelo WhatsApp: (11) 982968779 \nEndereço: \nRestaurante Bruschetteria Tappi \nEndereço: 1511\, R. Carlos Weber – Vila Leopoldina\, São Paulo – SP \n
URL:https://agendadovinho.com.br/event/curso-basico-de-vinhos-vila-leopoldina/
LOCATION:Bruschetteria Tappi\, Rua Carlos Weber\, 1511\, Vila Leopoldina\, São Paulo\, SP\, Brasil
CATEGORIES:Curso técnico,SP - São Paulo
ATTACH;FMTTYPE=image/png:https://agendadovinho.com.br/wp-content/uploads/2019/05/curso-basico_270619.png
END:VEVENT
END:VCALENDAR