BEGIN:VCALENDAR
VERSION:2.0
PRODID:-//Agenda do Vinho - ECPv4.9.0//NONSGML v1.0//EN
CALSCALE:GREGORIAN
METHOD:PUBLISH
X-WR-CALNAME:Agenda do Vinho
X-ORIGINAL-URL:https://agendadovinho.com.br
X-WR-CALDESC:Eventos para Agenda do Vinho
BEGIN:VEVENT
DTSTART;TZID=America/Sao_Paulo:20200130T193000
DTEND;TZID=America/Sao_Paulo:20200130T220000
DTSTAMP:20260425T233600
CREATED:20200108T194116Z
LAST-MODIFIED:20200108T194116Z
UID:10500-1580412600-1580421600@agendadovinho.com.br
SUMMARY:CURSO BÁSICO DE VINHOS
DESCRIPTION:Este é um curso instrutivo e descontraído\, destinado especialmente para apreciadores do vinho que desejam uma base de conhecimentos sobre o assunto e aprender a prática da degustação. \nA versão 2020 traz mais tempo de curso (2h30min) e o conteúdo teórico revisto e atualizado. \nConteúdo Previsto:\n– O Vinho na História\n– Aspectos Geoclimáticos\n– Principais Regiões Produtoras\n– Principais Castas\n– Métodos de Elaboração do Vinho Branco\, Rosé\, Tinto e Espumante\n– Técnica de Degustação\n– Exercício Prático de Degustação com Vinhos \nMinistrado por Marcia Amaral.\nMarcia é sommèliere internacional pela FISAR\, graduada com o Nível 3 da WSET\, e profissional do vinho com experiência nacional e internacional. .\n📆 30 de janeiro (quinta-feira)\n🕢 das 19:30 às 22:00 . .\n💲 R$150\,00 (por transferência bancária)* \n📍A Fabrica Working Bar\, Floripa @afabricaworkingbar \nℹ️ material didático (PDF)\, degustação de 5 vinhos\, pães\, frutas e nozes . .\n* Inscrições mediante depósito/transferência bancária (solicite informações) ou com cartão de crédito (R$160\,00 via PagSeguro).\n⚠️ Vagas limitadas! O número mínimo para a realização de participantes é de 12 e o máximo de 15 pessoas.\n➕ Informações: tudodovinho@gmail.com \n
URL:https://agendadovinho.com.br/event/curso-basico-de-vinhos-9/
LOCATION:A Fábrica Working Bar\, Travessa Albertina Ganzo\, 33\, Florianópolis\, SC\, 88015-210\, Brasil
CATEGORIES:Curso técnico,SC - Florianópolis
ATTACH;FMTTYPE=image/jpeg:https://agendadovinho.com.br/wp-content/uploads/2020/01/curso-basico-de-vinhos_300120.jpg
END:VEVENT
END:VCALENDAR