BEGIN:VCALENDAR
VERSION:2.0
PRODID:-//Agenda do Vinho - ECPv4.9.0//NONSGML v1.0//EN
CALSCALE:GREGORIAN
METHOD:PUBLISH
X-WR-CALNAME:Agenda do Vinho
X-ORIGINAL-URL:https://agendadovinho.com.br
X-WR-CALDESC:Eventos para Agenda do Vinho
BEGIN:VEVENT
DTSTART;TZID=America/Sao_Paulo:20190507T193000
DTEND;TZID=America/Sao_Paulo:20190507T223000
DTSTAMP:20260420T102744
CREATED:20190430T202459Z
LAST-MODIFIED:20190430T202459Z
UID:2929-1557257400-1557268200@agendadovinho.com.br
SUMMARY:Curso Básico de Vinho
DESCRIPTION:Pensando em fazer um Curso Básico\, a porta de entrada para o fascinante mundo do vinho em Campinas? A ABS-Campinas é a sua melhor opção. Confira porque: \nSomos uma Subseção a ABS-SP\, a mais prestigiada e reconhecida instituição de ensino de vinho no Brasil. \nSomos o único curso em Campinas que oferece material didático no formato online para os alunos. Fala sério: é muito desagradável participar de um curso onde o professor só fala. Na ABS você terá que se preocupar apenas em prestar atenção na aula. \nTodos os nossos professores são certificados. Isso significa que eles tiveram que passar por uma banca de especialistas (com os maiores especialistas em vinho no país) e que foram aprovados. E não se trata apenas do conteúdo da aula\, mas o formato do material apresentado e a didática\, fatores essenciais para um bom aprendizado. \nNosso curso é oferecido em instalações confortáveis\, num dos melhores hotéis da cidade. Chega de aula em lugares apertados e com iluminação deficiente. Sim\, conforto é muito importante para o aprendizado. \nPara inscrições e maiores informações acesse o link: https://www.abs-sp.com.br/turmas/t454/curso-basico-de-vinhos-na-abs-campinas?fbclid=IwAR0Fa6WOtmVZqbqzDX9pmEmncVHit4-M4bMTnj1cVb0UBINypMIfCjuSFow \nMaiores Informações: (19) 98111-4310 \nValor: R$ 850\,00 \n
URL:https://agendadovinho.com.br/event/curso-basico-de-vinho/
LOCATION:ABS Campinas\, R. Boaventura do Amaral\, 1274 - Centro\, Campinas\, SP\, Brasil
CATEGORIES:Curso técnico,SP - Demais cidades
ATTACH;FMTTYPE=image/jpeg:https://agendadovinho.com.br/wp-content/uploads/2019/04/curso-basico_070519.jpg
END:VEVENT
END:VCALENDAR