BEGIN:VCALENDAR
VERSION:2.0
PRODID:-//Agenda do Vinho - ECPv4.9.0//NONSGML v1.0//EN
CALSCALE:GREGORIAN
METHOD:PUBLISH
X-WR-CALNAME:Agenda do Vinho
X-ORIGINAL-URL:https://agendadovinho.com.br
X-WR-CALDESC:Eventos para Agenda do Vinho
BEGIN:VEVENT
DTSTART;TZID=America/Sao_Paulo:20200702T190000
DTEND;TZID=America/Sao_Paulo:20200702T190000
DTSTAMP:20260423T092941
CREATED:20200701T162148Z
LAST-MODIFIED:20200701T162148Z
UID:14724-1593716400-1593716400@agendadovinho.com.br
SUMMARY:Cultivo e produção de vinhos no Brasil
DESCRIPTION:02/07 – 19h \n
URL:https://agendadovinho.com.br/event/cultivo-e-producao-de-vinhos-no-brasil/
LOCATION:Instagram
CATEGORIES:Curso técnico,Online
ATTACH;FMTTYPE=image/jpeg:https://agendadovinho.com.br/wp-content/uploads/2020/07/gabigarelli_020720.jpg
END:VEVENT
END:VCALENDAR