BEGIN:VCALENDAR
VERSION:2.0
PRODID:-//Agenda do Vinho - ECPv4.9.0//NONSGML v1.0//EN
CALSCALE:GREGORIAN
METHOD:PUBLISH
X-WR-CALNAME:Agenda do Vinho
X-ORIGINAL-URL:https://agendadovinho.com.br
X-WR-CALDESC:Eventos para Agenda do Vinho
BEGIN:VEVENT
DTSTART;TZID=America/Sao_Paulo:20200416T170000
DTEND;TZID=America/Sao_Paulo:20200416T170000
DTSTAMP:20260426T024057
CREATED:20200414T151933Z
LAST-MODIFIED:20200414T151933Z
UID:12531-1587056400-1587056400@agendadovinho.com.br
SUMMARY:Cuidados com a saúde na quarentena
DESCRIPTION:Nesta quinta-feira\, 16/04\, às 17h\, @davinha_aovinho receberá para um bate-papo ao vivo duas convidadas muito especiais:  @dra.cristinamansur e @lelemansur . Mãe e filha\, unidas pelo sangue e pela arte\, unidas pela paixão que as move e as define como seres humanos e profissionais. Será uma conversa muito relevante para o momento atual que são os cuidados com a saúde durante a quarentena. \n
URL:https://agendadovinho.com.br/event/cuidados-com-a-saude-na-quarentena/
LOCATION:Instagram
CATEGORIES:Curso técnico,Online
ATTACH;FMTTYPE=image/jpeg:https://agendadovinho.com.br/wp-content/uploads/2020/04/davinha_aovinho_160420.jpg
END:VEVENT
END:VCALENDAR