BEGIN:VCALENDAR
VERSION:2.0
PRODID:-//Agenda do Vinho - ECPv4.9.0//NONSGML v1.0//EN
CALSCALE:GREGORIAN
METHOD:PUBLISH
X-WR-CALNAME:Agenda do Vinho
X-ORIGINAL-URL:https://agendadovinho.com.br
X-WR-CALDESC:Eventos para Agenda do Vinho
BEGIN:VEVENT
DTSTART;TZID=America/Sao_Paulo:20200430T150000
DTEND;TZID=America/Sao_Paulo:20200430T150000
DTSTAMP:20260426T005121
CREATED:20200425T151656Z
LAST-MODIFIED:20200425T151656Z
UID:12875-1588258800-1588258800@agendadovinho.com.br
SUMMARY:Coronavírus e a indústria do vinho
DESCRIPTION:Coronavírus e a indústria do vinho (em inglês) \n30/04 – 15:00 \n
URL:https://agendadovinho.com.br/event/coronavirus-e-a-industria-do-vinho/
LOCATION:Instagram
CATEGORIES:Curso técnico,Online
ATTACH;FMTTYPE=image/jpeg:https://agendadovinho.com.br/wp-content/uploads/2020/04/eno_cultura_280420.jpg
END:VEVENT
END:VCALENDAR